BEGIN:VCALENDAR
VERSION:2.0
PRODID:-//St. James - ECPv6.15.20//NONSGML v1.0//EN
CALSCALE:GREGORIAN
METHOD:PUBLISH
X-ORIGINAL-URL:https://stjamessacramento.org
X-WR-CALDESC:Events for St. James
REFRESH-INTERVAL;VALUE=DURATION:PT1H
X-Robots-Tag:noindex
X-PUBLISHED-TTL:PT1H
BEGIN:VTIMEZONE
TZID:UTC
BEGIN:STANDARD
TZOFFSETFROM:+0000
TZOFFSETTO:+0000
TZNAME:UTC
DTSTART:20170101T000000
END:STANDARD
END:VTIMEZONE
BEGIN:VEVENT
DTSTART;TZID=UTC:20181021T103000
DTEND;TZID=UTC:20181021T120000
DTSTAMP:20260423T181832
CREATED:20181016T154448Z
LAST-MODIFIED:20181016T160407Z
UID:877-1540117800-1540123200@stjamessacramento.org
SUMMARY:Divine Liturgy/Sunday Badarak
DESCRIPTION:Sunday Services (Divine Liturgy) \n\n10:30 AM to 12:30 PM\nFr. Yeghishe Ksachikyan presiding.\nFellowship (coffee and pastries) in the church hall after the services.\n\nFor information about weddings\, baptisms\, hokehankisd or hokejosh\, please contact the church office\, (916) 443-3633. \n Sunday School (September through May) \n\n10:30 AM until service ends.\nChildren are escorted into the church for communion and then return to Sunday School.
URL:https://stjamessacramento.org/event/divine-liturgy-sunday-badarak/
END:VEVENT
BEGIN:VEVENT
DTSTART;TZID=UTC:20181020T110000
DTEND;TZID=UTC:20181020T200000
DTSTAMP:20260423T181832
CREATED:20180713T113900Z
LAST-MODIFIED:20180713T115019Z
UID:689-1540033200-1540065600@stjamessacramento.org
SUMMARY:71st Sacramento Armenian Food Festival
DESCRIPTION:71st Sacramento Armenian Food Festival\nSaturday\, October 20\,2018    11 a.m.-8 p.m. \nTrinity Great Hall\, 2620 Capitol Ave\, Sacramento 95816 \nEnjoy Great Armenian Food\, Homemade Pastries & Fellowship \n\nBBQ Lunch Service: 11 a.m.- 4:00. p.m\nNEW Mezzeh menu @ 5 p.m. $5 appetizer plate (lamajoon or boureg\, yalanchi & salad) $5 beer & wine. Ala carte items will also be for sale.\nFamily entertainment @ Noon & 3 p.m.; dancing after 5 p.m.\nEasy street parking\nAdmission Fee: $5/children under 12 free\n\n  \nPresented by St. James Armenian Apostolic Church. Funds raised will support church programs. \nwww.armenianfoodfest70.org\ntwitter:@armenianfest16 \nfacebook: https://www.facebook.com/St.JamesArmenianApostolicChurchofSacramento/ \n  \n 
URL:https://stjamessacramento.org/event/71st-sacramento-armenian-food-festival/
LOCATION:Trinity Cathedral\, Sacamento\, 2620 Capitol Ave\, Sacramento\, California (CA)\, 95816
END:VEVENT
BEGIN:VEVENT
DTSTART;TZID=UTC:20180624T103000
DTEND;TZID=UTC:20180624T123000
DTSTAMP:20260423T181832
CREATED:20180618T042058Z
LAST-MODIFIED:20180618T042058Z
UID:659-1529836200-1529843400@stjamessacramento.org
SUMMARY:Sunday Service
DESCRIPTION:
URL:https://stjamessacramento.org/event/sunday-service/
LOCATION:St James Armenian Apostolic Church\, 3300 Business Dr\, Sacramento\, CA\, 95820\, United States
CATEGORIES:Service
END:VEVENT
END:VCALENDAR